BEGIN:VCALENDAR
VERSION:2.0
PRODID:-//Rockingham County, NH - ECPv6.15.20//NONSGML v1.0//EN
CALSCALE:GREGORIAN
METHOD:PUBLISH
X-WR-CALNAME:Rockingham County, NH
X-ORIGINAL-URL:https://rockinghamcountynh.org
X-WR-CALDESC:Events for Rockingham County, NH
REFRESH-INTERVAL;VALUE=DURATION:PT1H
X-Robots-Tag:noindex
X-PUBLISHED-TTL:PT1H
BEGIN:VTIMEZONE
TZID:America/New_York
BEGIN:DAYLIGHT
TZOFFSETFROM:-0500
TZOFFSETTO:-0400
TZNAME:EDT
DTSTART:20220313T070000
END:DAYLIGHT
BEGIN:STANDARD
TZOFFSETFROM:-0400
TZOFFSETTO:-0500
TZNAME:EST
DTSTART:20221106T060000
END:STANDARD
BEGIN:DAYLIGHT
TZOFFSETFROM:-0500
TZOFFSETTO:-0400
TZNAME:EDT
DTSTART:20230312T070000
END:DAYLIGHT
BEGIN:STANDARD
TZOFFSETFROM:-0400
TZOFFSETTO:-0500
TZNAME:EST
DTSTART:20231105T060000
END:STANDARD
BEGIN:DAYLIGHT
TZOFFSETFROM:-0500
TZOFFSETTO:-0400
TZNAME:EDT
DTSTART:20240310T070000
END:DAYLIGHT
BEGIN:STANDARD
TZOFFSETFROM:-0400
TZOFFSETTO:-0500
TZNAME:EST
DTSTART:20241103T060000
END:STANDARD
END:VTIMEZONE
BEGIN:VEVENT
DTSTART;TZID=America/New_York:20230515T090000
DTEND;TZID=America/New_York:20230515T100000
DTSTAMP:20260422T175013
CREATED:20230428T171031Z
LAST-MODIFIED:20230428T171031Z
UID:8024-1684141200-1684144800@rockinghamcountynh.org
SUMMARY:Categorical Assistance Subcommittee Meeting
DESCRIPTION:The purpose of this meeting is to review the FY 2024 budget proposal.
URL:https://rockinghamcountynh.org/event/categorical-assistance-subcommittee-meeting-2/
LOCATION:Hilton Auditorium\, 117 North Road\, Brentwood\, NH\, 03833\, United States
CATEGORIES:Subcommittee Meeting
ORGANIZER;CN="Delegation Office":MAILTO:churley@co.rockingham.nh.us
END:VEVENT
BEGIN:VEVENT
DTSTART;TZID=America/New_York:20230515T093000
DTEND;TZID=America/New_York:20230515T103000
DTSTAMP:20260422T175013
CREATED:20230428T172615Z
LAST-MODIFIED:20230428T172615Z
UID:8036-1684143000-1684146600@rockinghamcountynh.org
SUMMARY:Salary Subcommittee Meeting
DESCRIPTION:The purpose of this meeting is to review the FY 2024 budget proposal.
URL:https://rockinghamcountynh.org/event/salary-subcommittee-meeting-2/
LOCATION:Hilton Auditorium\, 117 North Road\, Brentwood\, NH\, 03833\, United States
CATEGORIES:Subcommittee Meeting
ORGANIZER;CN="Delegation Office":MAILTO:churley@co.rockingham.nh.us
END:VEVENT
END:VCALENDAR