BEGIN:VCALENDAR
VERSION:2.0
PRODID:-//Rockingham County, NH - ECPv6.15.20//NONSGML v1.0//EN
CALSCALE:GREGORIAN
METHOD:PUBLISH
X-ORIGINAL-URL:https://rockinghamcountynh.org
X-WR-CALDESC:Events for Rockingham County, NH
REFRESH-INTERVAL;VALUE=DURATION:PT1H
X-Robots-Tag:noindex
X-PUBLISHED-TTL:PT1H
BEGIN:VTIMEZONE
TZID:America/New_York
BEGIN:DAYLIGHT
TZOFFSETFROM:-0500
TZOFFSETTO:-0400
TZNAME:EDT
DTSTART:20230312T070000
END:DAYLIGHT
BEGIN:STANDARD
TZOFFSETFROM:-0400
TZOFFSETTO:-0500
TZNAME:EST
DTSTART:20231105T060000
END:STANDARD
BEGIN:DAYLIGHT
TZOFFSETFROM:-0500
TZOFFSETTO:-0400
TZNAME:EDT
DTSTART:20240310T070000
END:DAYLIGHT
BEGIN:STANDARD
TZOFFSETFROM:-0400
TZOFFSETTO:-0500
TZNAME:EST
DTSTART:20241103T060000
END:STANDARD
BEGIN:DAYLIGHT
TZOFFSETFROM:-0500
TZOFFSETTO:-0400
TZNAME:EDT
DTSTART:20250309T070000
END:DAYLIGHT
BEGIN:STANDARD
TZOFFSETFROM:-0400
TZOFFSETTO:-0500
TZNAME:EST
DTSTART:20251102T060000
END:STANDARD
END:VTIMEZONE
BEGIN:VEVENT
DTSTART;TZID=America/New_York:20240503T093000
DTEND;TZID=America/New_York:20240503T113000
DTSTAMP:20260421T220550
CREATED:20240412T154604Z
LAST-MODIFIED:20240412T193422Z
UID:9356-1714728600-1714735800@rockinghamcountynh.org
SUMMARY:Rockingham County Executive Committee Meeting
DESCRIPTION:Rockingham County Executive Committee Meeting\, Friday\, May 3\, 2024\,  9:30 a.m.\, Hilton Auditorium\, Rockingham County Rehabilitation and Nursing Center\, Brentwood\, NH.  The purpose of the meeting is to conduct the FY-2024 Third Quarter Budget Review.  A quorum is required.  Executive Committee Members must attend in person. \nZoom Access is available:\nhttps://zoom.us/j/5713255541?pwd= TkV4NnM5OHp5SnZzVEcxaFlrL0VYZz09 \nTo access the meeting by audio\, please following the instructions below. \n\nDial 1-929-205-6099 or 1-312-626-6799  (click phone call option)\nEnter the Meeting ID:  571-325-5541\nNote: Participant IDs will not be provided for this meeting.  Simply press # to continue.\nEnter the Meeting Password: 312900\n\nThe following email address will be monitored throughout the meeting to alert committee members of any issues:  rbernier@co.rockingham.nh.us \nRep. John Potucek\, Clerk\nRockingham County Executive Committee
URL:https://rockinghamcountynh.org/event/rockingham-county-executive-committee-meeting-22/
LOCATION:Hilton Auditorium\, 117 North Road\, Brentwood\, NH\, 03833\, United States
CATEGORIES:Delegation
ORGANIZER;CN="Delegation Office":MAILTO:churley@co.rockingham.nh.us
END:VEVENT
BEGIN:VEVENT
DTSTART;TZID=America/New_York:20240503T113000
DTEND;TZID=America/New_York:20240503T123000
DTSTAMP:20260421T220550
CREATED:20240422T152920Z
LAST-MODIFIED:20240422T152920Z
UID:9448-1714735800-1714739400@rockinghamcountynh.org
SUMMARY:IT/Telecommunications Subcommittee Meeting
DESCRIPTION:The purpose of this meeting is to review the FY 2025 proposed budget.
URL:https://rockinghamcountynh.org/event/it-telecommunications-subcommittee-meeting-3/
LOCATION:Hilton Auditorium\, 117 North Road\, Brentwood\, NH\, 03833\, United States
CATEGORIES:Subcommittee Meeting
ORGANIZER;CN="Delegation Office":MAILTO:churley@co.rockingham.nh.us
END:VEVENT
BEGIN:VEVENT
DTSTART;TZID=America/New_York:20240506T090000
DTEND;TZID=America/New_York:20240506T100000
DTSTAMP:20260421T220550
CREATED:20240422T150934Z
LAST-MODIFIED:20240422T150934Z
UID:9434-1714986000-1714989600@rockinghamcountynh.org
SUMMARY:Categorical Assistance Subcommittee Meeting
DESCRIPTION:The purpose of this meeting is to review the FY 2025 proposed budget.
URL:https://rockinghamcountynh.org/event/categorical-assistance-subcommittee-meeting-3/
LOCATION:Hilton Auditorium\, 117 North Road\, Brentwood\, NH\, 03833\, United States
CATEGORIES:Subcommittee Meeting
ORGANIZER;CN="Delegation Office":MAILTO:churley@co.rockingham.nh.us
END:VEVENT
BEGIN:VEVENT
DTSTART;TZID=America/New_York:20240506T090000
DTEND;TZID=America/New_York:20240506T100000
DTSTAMP:20260421T220550
CREATED:20240422T155015Z
LAST-MODIFIED:20240426T134954Z
UID:9460-1714986000-1714989600@rockinghamcountynh.org
SUMMARY:UNH Cooperative Extension/Conservation District Subcommittee Meeting
DESCRIPTION:The purpose of this meeting is to review the FY 2025 proposed budget.
URL:https://rockinghamcountynh.org/event/unh-cooperative-extension-conservation-district-subcommittee-meeting-3/
LOCATION:UNH Cooperative Extension Building\, 113A North Road\, Brentwood\, NH\, 03833\, United States
CATEGORIES:Subcommittee Meeting
ORGANIZER;CN="Delegation Office":MAILTO:churley@co.rockingham.nh.us
END:VEVENT
BEGIN:VEVENT
DTSTART;TZID=America/New_York:20240506T100000
DTEND;TZID=America/New_York:20240506T110000
DTSTAMP:20260421T220550
CREATED:20240422T154250Z
LAST-MODIFIED:20240422T154250Z
UID:9456-1714989600-1714993200@rockinghamcountynh.org
SUMMARY:Revenue/Finance Office Subcommittee Meeting
DESCRIPTION:The purpose of this meeting is to review the FY 2025 proposed budget.
URL:https://rockinghamcountynh.org/event/revenue-finance-office-subcommittee-meeting/
LOCATION:Delegation Office\, 118 North Road\, Brentwood\, NH\, 03833\, United States
CATEGORIES:Subcommittee Meeting
ORGANIZER;CN="Delegation Office":MAILTO:churley@co.rockingham.nh.us
END:VEVENT
BEGIN:VEVENT
DTSTART;TZID=America/New_York:20240506T130000
DTEND;TZID=America/New_York:20240506T140000
DTSTAMP:20260421T220550
CREATED:20240422T154541Z
LAST-MODIFIED:20240422T154541Z
UID:9458-1715000400-1715004000@rockinghamcountynh.org
SUMMARY:Salary Subcommittee Meeting (Classified)
DESCRIPTION:The purpose of this meeting is to review the FY 2025 proposed budget.
URL:https://rockinghamcountynh.org/event/salary-subcommittee-meeting-classified/
LOCATION:Hilton Auditorium\, 117 North Road\, Brentwood\, NH\, 03833\, United States
CATEGORIES:Subcommittee Meeting
ORGANIZER;CN="Delegation Office":MAILTO:churley@co.rockingham.nh.us
END:VEVENT
BEGIN:VEVENT
DTSTART;TZID=America/New_York:20240507T100000
DTEND;TZID=America/New_York:20240507T110000
DTSTAMP:20260421T220550
CREATED:20240422T151103Z
LAST-MODIFIED:20240422T151103Z
UID:9436-1715076000-1715079600@rockinghamcountynh.org
SUMMARY:Commissioners/General Government/Grants/Human Resources/Treasurer Subcommittee Meeting
DESCRIPTION:The purpose of this meeting is to review the FY 2025 proposed budget.
URL:https://rockinghamcountynh.org/event/commissioners-general-government-grants-human-resources-treasurer-subcommittee-meeting-2/
LOCATION:Hilton Auditorium\, 117 North Road\, Brentwood\, NH\, 03833\, United States
CATEGORIES:Subcommittee Meeting
ORGANIZER;CN="Delegation Office":MAILTO:churley@co.rockingham.nh.us
END:VEVENT
BEGIN:VEVENT
DTSTART;TZID=America/New_York:20240508T100000
DTEND;TZID=America/New_York:20240508T110000
DTSTAMP:20260421T220550
CREATED:20240422T153117Z
LAST-MODIFIED:20240422T153117Z
UID:9450-1715162400-1715166000@rockinghamcountynh.org
SUMMARY:Long Range Planning Subcommittee Meeting
DESCRIPTION:The purpose of this meeting is to review the FY 2025 proposed budget.
URL:https://rockinghamcountynh.org/event/long-range-planning-subcommittee-meeting-3/
LOCATION:Delegation Office\, 118 North Road\, Brentwood\, NH\, 03833\, United States
CATEGORIES:Subcommittee Meeting
ORGANIZER;CN="Delegation Office":MAILTO:churley@co.rockingham.nh.us
END:VEVENT
BEGIN:VEVENT
DTSTART;TZID=America/New_York:20240522T180000
DTEND;TZID=America/New_York:20240522T190000
DTSTAMP:20260421T220550
CREATED:20240412T155206Z
LAST-MODIFIED:20240412T193531Z
UID:9358-1716400800-1716404400@rockinghamcountynh.org
SUMMARY:County Convention Meeting
DESCRIPTION:Rockingham County Convention Meeting\, Wednesday\, May 22\, 2024\, 6:00 p.m.\, Hilton Auditorium\, Rockingham County Rehabilitation and Nursing Center\, Brentwood\, NH.  The purpose of the meeting is to vote Elected Officials Salaries and Benefits for the Term of Office commencing January 2025 (RSA 23:7) Establishing Compensation and (RSA 655:14) Filing.  A quorum is required.  Convention Members must attend in person. \nZoom Access is available:\nhttps://zoom.us/j/5713255541?pwd= TkV4NnM5OHp5SnZzVEcxaFlrL0VYZz09 \nTo access the meeting by audio\, please following the instructions below. \n\nDial 1-929-205-6099 or 1-312-626-6799 (click phone call option)\nEnter the Meeting ID:  571-325-5541\nNote: Participant IDs will not be provided for this meeting.  Simply press # to continue.\nEnter the Meeting Password: 312900\n\nThe following email address will be monitored throughout the meeting to alert committee members of any issues:  rbernier@co.rockingham.nh.us \nRep. John Potucek\, Clerk\nRockingham County Executive Committee
URL:https://rockinghamcountynh.org/event/county-convention-meeting-2/
LOCATION:Hilton Auditorium\, 117 North Road\, Brentwood\, NH\, 03833\, United States
CATEGORIES:Delegation
ORGANIZER;CN="Delegation Office":MAILTO:churley@co.rockingham.nh.us
END:VEVENT
BEGIN:VEVENT
DTSTART;TZID=America/New_York:20240524T093000
DTEND;TZID=America/New_York:20240524T113000
DTSTAMP:20260421T220550
CREATED:20240412T155611Z
LAST-MODIFIED:20240412T193727Z
UID:9360-1716543000-1716550200@rockinghamcountynh.org
SUMMARY:Executive Committee Meeting
DESCRIPTION:Rockingham County Executive Committee Meeting\, Friday\, May 24\, 2024\, 9:30 a.m.\, Hilton Auditorium\, Rockingham County Rehabilitation and Nursing Center\, Brentwood\, NH.  The purpose of the meeting is for subcommittee chairs to report budget recommendations and vote on budget to be presented at the Executive Committee Public Hearing on June 5.  A quorum is required.  Executive Committee Members must attend in person. \nZoom Access is available:\nhttps://zoom.us/j/5713255541?pwd= TkV4NnM5OHp5SnZzVEcxaFlrL0VYZz09 \nTo access the meeting by audio\, please following the instructions below. \n\nDial 1-929-205-6099 or 1-312-626-6799 (click phone call option)\nEnter the Meeting ID:  571-325-5541\nNote: Participant IDs will not be provided for this meeting.  Simply press # to continue.\nEnter the Meeting Password: 312900\n\nThe following email address will be monitored throughout the meeting to alert committee members of any issues:  rbernier@co.rockingham.nh.us \nRep. John Potucek\, Clerk\nRockingham County Executive Committee
URL:https://rockinghamcountynh.org/event/executive-committee-meeting/
LOCATION:Hilton Auditorium\, 117 North Road\, Brentwood\, NH\, 03833\, United States
CATEGORIES:Delegation
ORGANIZER;CN="Delegation Office":MAILTO:churley@co.rockingham.nh.us
END:VEVENT
END:VCALENDAR