BEGIN:VCALENDAR
VERSION:2.0
PRODID:-//Rockingham County, NH - ECPv6.15.20//NONSGML v1.0//EN
CALSCALE:GREGORIAN
METHOD:PUBLISH
X-ORIGINAL-URL:https://rockinghamcountynh.org
X-WR-CALDESC:Events for Rockingham County, NH
REFRESH-INTERVAL;VALUE=DURATION:PT1H
X-Robots-Tag:noindex
X-PUBLISHED-TTL:PT1H
BEGIN:VTIMEZONE
TZID:America/New_York
BEGIN:DAYLIGHT
TZOFFSETFROM:-0500
TZOFFSETTO:-0400
TZNAME:EDT
DTSTART:20230312T070000
END:DAYLIGHT
BEGIN:STANDARD
TZOFFSETFROM:-0400
TZOFFSETTO:-0500
TZNAME:EST
DTSTART:20231105T060000
END:STANDARD
BEGIN:DAYLIGHT
TZOFFSETFROM:-0500
TZOFFSETTO:-0400
TZNAME:EDT
DTSTART:20240310T070000
END:DAYLIGHT
BEGIN:STANDARD
TZOFFSETFROM:-0400
TZOFFSETTO:-0500
TZNAME:EST
DTSTART:20241103T060000
END:STANDARD
BEGIN:DAYLIGHT
TZOFFSETFROM:-0500
TZOFFSETTO:-0400
TZNAME:EDT
DTSTART:20250309T070000
END:DAYLIGHT
BEGIN:STANDARD
TZOFFSETFROM:-0400
TZOFFSETTO:-0500
TZNAME:EST
DTSTART:20251102T060000
END:STANDARD
END:VTIMEZONE
BEGIN:VEVENT
DTSTART;TZID=America/New_York:20240416T150000
DTEND;TZID=America/New_York:20240416T160000
DTSTAMP:20260421T234108
CREATED:20240412T202050Z
LAST-MODIFIED:20240412T202050Z
UID:9378-1713279600-1713283200@rockinghamcountynh.org
SUMMARY:Salary Subcommittee - Elected Officials
DESCRIPTION:Salary Subcommittee-Elected Officials\, Tuesday\, April 16\, 2024\, at 3:00 p.m. in the Hilton Auditorium\, RCRNC\, Brentwood. \nRep. John Potucek\, Clerk\nRockingham County Convention
URL:https://rockinghamcountynh.org/event/salary-subcommittee-elected-officials/
LOCATION:Hilton Auditorium\, 117 North Road\, Brentwood\, NH\, 03833\, United States
CATEGORIES:Subcommittee Meeting
ORGANIZER;CN="Delegation Office":MAILTO:churley@co.rockingham.nh.us
END:VEVENT
BEGIN:VEVENT
DTSTART;TZID=America/New_York:20240419T150000
DTEND;TZID=America/New_York:20240419T160000
DTSTAMP:20260421T234108
CREATED:20240412T202236Z
LAST-MODIFIED:20240412T202236Z
UID:9380-1713538800-1713542400@rockinghamcountynh.org
SUMMARY:Salary Subcommittee (Classified)
DESCRIPTION:Salary Subcommittee Meeting (Classified)\, Friday\, April 19\, 2024\, at 3:00 p.m.\, in the Delegation Office at the Rockingham County Complex. \nRep. John Potucek\, Clerk\nRockingham County Convention
URL:https://rockinghamcountynh.org/event/salary-subcommittee-classified/
LOCATION:Delegation Office\, 118 North Road\, Brentwood\, NH\, 03833\, United States
CATEGORIES:Subcommittee Meeting
ORGANIZER;CN="Delegation Office":MAILTO:churley@co.rockingham.nh.us
END:VEVENT
BEGIN:VEVENT
DTSTART;TZID=America/New_York:20240424T090000
DTEND;TZID=America/New_York:20240424T100000
DTSTAMP:20260421T234108
CREATED:20240417T155832Z
LAST-MODIFIED:20240417T155832Z
UID:9395-1713949200-1713952800@rockinghamcountynh.org
SUMMARY:Sheriff Subcommittee Meeting
DESCRIPTION:Rep. Scott Wallace\, Chairman of the Sheriff’s Subcommittee\, has scheduled a Sheriff’s Subcommittee Meeting to be held on Wednesday\, April 24\, 2024\, at 9:00 a.m.\, in the Sheriff’s Office located upstairs from the Jail.
URL:https://rockinghamcountynh.org/event/sheriff-subcommittee-meeting-3/
LOCATION:Sheriff’s Office\, 101 North Road\, Brentwood\, NH\, 03833
CATEGORIES:Subcommittee Meeting
ORGANIZER;CN="Delegation Office":MAILTO:churley@co.rockingham.nh.us
END:VEVENT
BEGIN:VEVENT
DTSTART;TZID=America/New_York:20240425T130000
DTEND;TZID=America/New_York:20240425T160000
DTSTAMP:20260421T234108
CREATED:20240422T154011Z
LAST-MODIFIED:20240422T154011Z
UID:9454-1714050000-1714060800@rockinghamcountynh.org
SUMMARY:Non County Specials Subcommittee Meeting
DESCRIPTION:The purpose of this meeting is to review the FY 2025 proposed budget.
URL:https://rockinghamcountynh.org/event/non-county-specials-subcommittee-meeting-3/
LOCATION:Hilton Auditorium\, 117 North Road\, Brentwood\, NH\, 03833\, United States
CATEGORIES:Subcommittee Meeting
ORGANIZER;CN="Delegation Office":MAILTO:churley@co.rockingham.nh.us
END:VEVENT
BEGIN:VEVENT
DTSTART;TZID=America/New_York:20240426T100000
DTEND;TZID=America/New_York:20240426T110000
DTSTAMP:20260421T234108
CREATED:20240417T155549Z
LAST-MODIFIED:20240417T155549Z
UID:9392-1714125600-1714129200@rockinghamcountynh.org
SUMMARY:Register of Deeds Subcommittee Meeting
DESCRIPTION:Rep. Deborah Hobson\, Chair of the Deeds Subcommittee\, has scheduled a Deeds Subcommittee Meeting to be held on Friday\, April 26\, 2024\, at 10:00 a.m.\, in the Deeds Office at the County Courthouse.
URL:https://rockinghamcountynh.org/event/register-of-deeds-subcommittee-meeting-3/
LOCATION:Registry of Deeds Office\, 102 North Road\, Brentwood\, NH\, 03833\, United States
CATEGORIES:Subcommittee Meeting
ORGANIZER;CN="Delegation Office":MAILTO:churley@co.rockingham.nh.us
END:VEVENT
BEGIN:VEVENT
DTSTART;TZID=America/New_York:20240426T100000
DTEND;TZID=America/New_York:20240426T110000
DTSTAMP:20260421T234108
CREATED:20240422T151641Z
LAST-MODIFIED:20240422T151641Z
UID:9439-1714125600-1714129200@rockinghamcountynh.org
SUMMARY:County Attorney/Medical Examiner Subcommittee Meeting
DESCRIPTION:The purpose of this meeting is to review the FY 2025 proposed budget.
URL:https://rockinghamcountynh.org/event/county-attorney-medical-examiner-subcommittee-meeting-3/
LOCATION:County Attorney’s Office\, 100 North Road\, Brentwood\, NH\, 03833\, United States
CATEGORIES:Subcommittee Meeting
ORGANIZER;CN="Delegation Office":MAILTO:churley@co.rockingham.nh.us
END:VEVENT
BEGIN:VEVENT
DTSTART;TZID=America/New_York:20240426T130000
DTEND;TZID=America/New_York:20240426T140000
DTSTAMP:20260421T234108
CREATED:20240422T151820Z
LAST-MODIFIED:20240422T151820Z
UID:9443-1714136400-1714140000@rockinghamcountynh.org
SUMMARY:Delegation Subcommittee Meeting
DESCRIPTION:The purpose of this meeting is to review the FY 2025 proposed budget.
URL:https://rockinghamcountynh.org/event/delegation-subcommittee-meeting-3/
LOCATION:Delegation Office\, 118 North Road\, Brentwood\, NH\, 03833\, United States
CATEGORIES:Subcommittee Meeting
ORGANIZER;CN="Delegation Office":MAILTO:churley@co.rockingham.nh.us
END:VEVENT
BEGIN:VEVENT
DTSTART;TZID=America/New_York:20240426T160000
DTEND;TZID=America/New_York:20240426T170000
DTSTAMP:20260421T234108
CREATED:20240422T153818Z
LAST-MODIFIED:20240422T153818Z
UID:9452-1714147200-1714150800@rockinghamcountynh.org
SUMMARY:Long Term Care Services Subcommittee Meeting
DESCRIPTION:The purpose of this meeting is to review the FY 2025 proposed budget.
URL:https://rockinghamcountynh.org/event/long-term-care-services-subcommittee-meeting-3/
LOCATION:Hilton Auditorium\, 117 North Road\, Brentwood\, NH\, 03833\, United States
CATEGORIES:Subcommittee Meeting
ORGANIZER;CN="Delegation Office":MAILTO:churley@co.rockingham.nh.us
END:VEVENT
BEGIN:VEVENT
DTSTART;TZID=America/New_York:20240429T090000
DTEND;TZID=America/New_York:20240429T100000
DTSTAMP:20260421T234108
CREATED:20240423T175133Z
LAST-MODIFIED:20240423T175133Z
UID:9472-1714381200-1714384800@rockinghamcountynh.org
SUMMARY:Rockingham County Building Oversight Committee Meeting
DESCRIPTION:The Building Oversight Committee will meet on Monday\, April 29\, 2024\, at 9:00 a.m.\, in the Maintenance Office Building\, at the County Complex.  Please note that the meeting includes a visit to the construction site for the new building.
URL:https://rockinghamcountynh.org/event/rockingham-county-building-oversight-committee-meeting-3/
LOCATION:Facilities Operations Office\, 116 North Road\, Brentwood\, NH\, 03833\, United States
CATEGORIES:Delegation
ORGANIZER;CN="Delegation Office":MAILTO:churley@co.rockingham.nh.us
END:VEVENT
BEGIN:VEVENT
DTSTART;TZID=America/New_York:20240429T100000
DTEND;TZID=America/New_York:20240429T110000
DTSTAMP:20260421T234108
CREATED:20240417T155247Z
LAST-MODIFIED:20240417T155627Z
UID:9390-1714384800-1714388400@rockinghamcountynh.org
SUMMARY:Department of Corrections Subcommittee Meeting
DESCRIPTION:Rep. Bob Lynn\, Chairman of the Department of Corrections Subcommittee\, has scheduled a Department of Corrections Subcommittee Meeting to be held on Monday\, April 29\, 2024\, at 10:00 a.m.\, at the Jail.
URL:https://rockinghamcountynh.org/event/department-of-corrections-subcommittee-meeting/
LOCATION:Department of Corrections\, 99 North Road\, Brentwood\, 03833\, United States
CATEGORIES:Subcommittee Meeting
ORGANIZER;CN="Delegation Office":MAILTO:churley@co.rockingham.nh.us
END:VEVENT
BEGIN:VEVENT
DTSTART;TZID=America/New_York:20240429T103000
DTEND;TZID=America/New_York:20240429T113000
DTSTAMP:20260421T234108
CREATED:20240422T152730Z
LAST-MODIFIED:20240422T152730Z
UID:9445-1714386600-1714390200@rockinghamcountynh.org
SUMMARY:Facilities Operations Subcommittee Meeting
DESCRIPTION:The purpose of this meeting is to review the FY 2025 proposed budget.
URL:https://rockinghamcountynh.org/event/facilities-operations-subcommittee-meeting/
LOCATION:Facilities Operations Office\, 116 North Road\, Brentwood\, NH\, 03833\, United States
CATEGORIES:Subcommittee Meeting
ORGANIZER;CN="Delegation Office":MAILTO:churley@co.rockingham.nh.us
END:VEVENT
END:VCALENDAR