BEGIN:VCALENDAR
VERSION:2.0
PRODID:-//Rockingham County, NH - ECPv6.15.20//NONSGML v1.0//EN
CALSCALE:GREGORIAN
METHOD:PUBLISH
X-WR-CALNAME:Rockingham County, NH
X-ORIGINAL-URL:https://rockinghamcountynh.org
X-WR-CALDESC:Events for Rockingham County, NH
REFRESH-INTERVAL;VALUE=DURATION:PT1H
X-Robots-Tag:noindex
X-PUBLISHED-TTL:PT1H
BEGIN:VTIMEZONE
TZID:America/New_York
BEGIN:DAYLIGHT
TZOFFSETFROM:-0500
TZOFFSETTO:-0400
TZNAME:EDT
DTSTART:20230312T070000
END:DAYLIGHT
BEGIN:STANDARD
TZOFFSETFROM:-0400
TZOFFSETTO:-0500
TZNAME:EST
DTSTART:20231105T060000
END:STANDARD
BEGIN:DAYLIGHT
TZOFFSETFROM:-0500
TZOFFSETTO:-0400
TZNAME:EDT
DTSTART:20240310T070000
END:DAYLIGHT
BEGIN:STANDARD
TZOFFSETFROM:-0400
TZOFFSETTO:-0500
TZNAME:EST
DTSTART:20241103T060000
END:STANDARD
BEGIN:DAYLIGHT
TZOFFSETFROM:-0500
TZOFFSETTO:-0400
TZNAME:EDT
DTSTART:20250309T070000
END:DAYLIGHT
BEGIN:STANDARD
TZOFFSETFROM:-0400
TZOFFSETTO:-0500
TZNAME:EST
DTSTART:20251102T060000
END:STANDARD
END:VTIMEZONE
BEGIN:VEVENT
DTSTART;TZID=America/New_York:20240202T100000
DTEND;TZID=America/New_York:20240202T110000
DTSTAMP:20260422T030410
CREATED:20240129T193943Z
LAST-MODIFIED:20240129T193943Z
UID:8864-1706868000-1706871600@rockinghamcountynh.org
SUMMARY:Rockingham County Building Oversight Committee Meeting
DESCRIPTION:Rockingham County Building Oversight Committee Meeting\, Friday\, February 2\, 2024\, at 10:00 a.m.\, Delegation Office\, 118 North Road\, Brentwood\, NH.   The purpose of the meeting is to review initial documents and status report format to be presented at quarterly Executive Committee Meetings.
URL:https://rockinghamcountynh.org/event/rockingham-county-building-oversight-committee-meeting/
LOCATION:Delegation Office\, 118 North Road\, Brentwood\, NH\, 03833\, United States
CATEGORIES:Subcommittee Meeting
ORGANIZER;CN="Delegation Office":MAILTO:churley@co.rockingham.nh.us
END:VEVENT
END:VCALENDAR