BEGIN:VCALENDAR
VERSION:2.0
PRODID:-//Rockingham County, NH - ECPv6.15.20//NONSGML v1.0//EN
CALSCALE:GREGORIAN
METHOD:PUBLISH
X-WR-CALNAME:Rockingham County, NH
X-ORIGINAL-URL:https://rockinghamcountynh.org
X-WR-CALDESC:Events for Rockingham County, NH
REFRESH-INTERVAL;VALUE=DURATION:PT1H
X-Robots-Tag:noindex
X-PUBLISHED-TTL:PT1H
BEGIN:VTIMEZONE
TZID:America/New_York
BEGIN:DAYLIGHT
TZOFFSETFROM:-0500
TZOFFSETTO:-0400
TZNAME:EDT
DTSTART:20220313T070000
END:DAYLIGHT
BEGIN:STANDARD
TZOFFSETFROM:-0400
TZOFFSETTO:-0500
TZNAME:EST
DTSTART:20221106T060000
END:STANDARD
BEGIN:DAYLIGHT
TZOFFSETFROM:-0500
TZOFFSETTO:-0400
TZNAME:EDT
DTSTART:20230312T070000
END:DAYLIGHT
BEGIN:STANDARD
TZOFFSETFROM:-0400
TZOFFSETTO:-0500
TZNAME:EST
DTSTART:20231105T060000
END:STANDARD
BEGIN:DAYLIGHT
TZOFFSETFROM:-0500
TZOFFSETTO:-0400
TZNAME:EDT
DTSTART:20240310T070000
END:DAYLIGHT
BEGIN:STANDARD
TZOFFSETFROM:-0400
TZOFFSETTO:-0500
TZNAME:EST
DTSTART:20241103T060000
END:STANDARD
END:VTIMEZONE
BEGIN:VEVENT
DTSTART;TZID=America/New_York:20231018T133000
DTEND;TZID=America/New_York:20231018T143000
DTSTAMP:20260422T090146
CREATED:20231016T163628Z
LAST-MODIFIED:20231016T163628Z
UID:8615-1697635800-1697639400@rockinghamcountynh.org
SUMMARY:Salary Subcommittee Meeting
DESCRIPTION:Salary Subcommittee Meeting\, Wednesday\, October 18\, 2023\, at 1:30 p.m.\, in the Hilton Auditorium at the Rockingham County Rehabilitation and Nursing Center in Brentwood\, NH.  The purpose of the meeting is to review regrades\, repurpose of positions\, and new position to be presented for approval at the upcoming Executive Committee Meeting on Friday\, October 20\, 2023\, at 9:30 a.m. \nRep. John Potucek\, Clerk\nRockingham County Executive Committee
URL:https://rockinghamcountynh.org/event/salary-subcommittee-meeting-3/
LOCATION:Hilton Auditorium\, 117 North Road\, Brentwood\, NH\, 03833\, United States
CATEGORIES:Subcommittee Meeting
ORGANIZER;CN="Delegation Office":MAILTO:churley@co.rockingham.nh.us
END:VEVENT
BEGIN:VEVENT
DTSTART;TZID=America/New_York:20231020T093000
DTEND;TZID=America/New_York:20231020T110000
DTSTAMP:20260422T090146
CREATED:20230918T151102Z
LAST-MODIFIED:20230920T142722Z
UID:8547-1697794200-1697799600@rockinghamcountynh.org
SUMMARY:Rockingham County Executive Committee Meeting
DESCRIPTION:The purpose of the meeting is to conduct the FY-2024 First Quarter Budget Review.  A quorum is required.  Executive Committee Members must attend in person. \nZoom Access is also available: https://zoom.us/j/5713255541?pwd=TkV4NnM5OHp5SnZzVEcxaFlrL0VYZz09 \nTo access the meeting by audio\, please following the instructions below. \n1. Dial one of the following numbers:\n \n1-929-205-6099\n888-788-0099 (US Toll Free\n833-548-0276 (US Toll Free)\n833-548-0282 (US Toll Free)\n877-853-5247 (US Toll Free) ​ \n2. Enter the Meeting ID:  571-325-5541\n3. Note: Participant IDs will not be provided for this meeting.  Simply press # to continue.\n4. Enter the Meeting Password: 312900 \nThe following email address will be monitored throughout the meeting to alert committee members of any issues:   rbernier@co.rockingham.nh.us \nRep. John Potucek\, Clerk\nRockingham County Executive Committee
URL:https://rockinghamcountynh.org/event/rockingham-county-executive-committee-meeting-20/
LOCATION:Hilton Auditorium\, 117 North Road\, Brentwood\, NH\, 03833\, United States
CATEGORIES:Delegation
ORGANIZER;CN="Delegation Office":MAILTO:churley@co.rockingham.nh.us
END:VEVENT
END:VCALENDAR