BEGIN:VCALENDAR
VERSION:2.0
PRODID:-//Rockingham County, NH - ECPv6.15.20//NONSGML v1.0//EN
CALSCALE:GREGORIAN
METHOD:PUBLISH
X-WR-CALNAME:Rockingham County, NH
X-ORIGINAL-URL:https://rockinghamcountynh.org
X-WR-CALDESC:Events for Rockingham County, NH
REFRESH-INTERVAL;VALUE=DURATION:PT1H
X-Robots-Tag:noindex
X-PUBLISHED-TTL:PT1H
BEGIN:VTIMEZONE
TZID:America/New_York
BEGIN:DAYLIGHT
TZOFFSETFROM:-0500
TZOFFSETTO:-0400
TZNAME:EDT
DTSTART:20240310T070000
END:DAYLIGHT
BEGIN:STANDARD
TZOFFSETFROM:-0400
TZOFFSETTO:-0500
TZNAME:EST
DTSTART:20241103T060000
END:STANDARD
BEGIN:DAYLIGHT
TZOFFSETFROM:-0500
TZOFFSETTO:-0400
TZNAME:EDT
DTSTART:20250309T070000
END:DAYLIGHT
BEGIN:STANDARD
TZOFFSETFROM:-0400
TZOFFSETTO:-0500
TZNAME:EST
DTSTART:20251102T060000
END:STANDARD
BEGIN:DAYLIGHT
TZOFFSETFROM:-0500
TZOFFSETTO:-0400
TZNAME:EDT
DTSTART:20260308T070000
END:DAYLIGHT
BEGIN:STANDARD
TZOFFSETFROM:-0400
TZOFFSETTO:-0500
TZNAME:EST
DTSTART:20261101T060000
END:STANDARD
BEGIN:DAYLIGHT
TZOFFSETFROM:-0500
TZOFFSETTO:-0400
TZNAME:EDT
DTSTART:20270314T070000
END:DAYLIGHT
BEGIN:STANDARD
TZOFFSETFROM:-0400
TZOFFSETTO:-0500
TZNAME:EST
DTSTART:20271107T060000
END:STANDARD
END:VTIMEZONE
BEGIN:VEVENT
DTSTART;TZID=America/New_York:20251107T110000
DTEND;TZID=America/New_York:20251107T123000
DTSTAMP:20260420T012431
CREATED:20251028T172256Z
LAST-MODIFIED:20251028T174651Z
UID:29098-1762513200-1762518600@rockinghamcountynh.org
SUMMARY:Rockingham County Municipal Building Ribbon Cutting Ceremony
DESCRIPTION:We’re excited to announce that the official ribbon cutting ceremony for the new County building will take place on Friday\, November 7\, 2025. This event marks the culmination of years of planning and progress\, and the beginning of a new era in how we serve our community. The new facility reflects our commitment to accessibility\, efficiency\, and long-term growth. County officials will be on hand to commemorate the occasion.
URL:https://rockinghamcountynh.org/event/rockingham-county-municipal-building-ribbon-cutting-ceremony/
LOCATION:Municipal Building Lobby\, 94 North Road\, Brentwood\, NH\, 03833\, United States
CATEGORIES:BOC Event - Attendance
END:VEVENT
BEGIN:VEVENT
DTSTART;TZID=America/New_York:20251109T160000
DTEND;TZID=America/New_York:20251111T110000
DTSTAMP:20260420T012431
CREATED:20251023T134032Z
LAST-MODIFIED:20251023T134131Z
UID:28947-1762704000-1762858800@rockinghamcountynh.org
SUMMARY:Board of Commissioners Notice of a Quorum
DESCRIPTION:A quorum of the Board will attend the New Hampshire Association of Counties 2025 Annual Conference from Sunday\, November 9\, 2025 through Wednesday\, November 12\, 2025 at the Omni Mt. Washington Resort\, 310 Mount Washington Hotel Rd.\, Bretton Woods\, NH 03575.
URL:https://rockinghamcountynh.org/event/board-of-commissioners-notice-of-a-quorum-6/
LOCATION:Omni Mt. Washington Resort\, Omni Mt. Washington Resort\, Bretton Woods\, NH\, 03575
CATEGORIES:BOC Event - Attendance
END:VEVENT
BEGIN:VEVENT
DTSTART;TZID=America/New_York:20260123T093000
DTEND;TZID=America/New_York:20260123T113000
DTSTAMP:20260420T012431
CREATED:20260120T211624Z
LAST-MODIFIED:20260120T211853Z
UID:31039-1769160600-1769167800@rockinghamcountynh.org
SUMMARY:Board of Commissioners Notice of a Quorum
DESCRIPTION:A quorum of the Board will attend the Rockingham County Executive Committee Meeting\, Friday\, January 23\, 2026 at 9:30 am in the Norman L. Major Auditorium\, 94 North Road\, Brentwood\, NH 03833. Immediately following the meeting\, the Board will also attend the Norman L. Major Auditorium Dedication Ceremony.
URL:https://rockinghamcountynh.org/event/board-of-commissioners-notice-of-a-quorum-8/
LOCATION:Norman L. Major Auditorium\, 94 North Road\, Brentwood\, 03833\, United States
CATEGORIES:BOC Event - Attendance
ORGANIZER;CN="Delegation Office":MAILTO:churley@co.rockingham.nh.us
END:VEVENT
BEGIN:VEVENT
DTSTART;TZID=America/New_York:20260508T093000
DTEND;TZID=America/New_York:20260508T113000
DTSTAMP:20260420T012431
CREATED:20260407T173024Z
LAST-MODIFIED:20260407T173024Z
UID:32439-1778232600-1778239800@rockinghamcountynh.org
SUMMARY:Board of Commissioners Notice of a Quorum
DESCRIPTION:A quorum of the Board will attend the Rockingham County Executive Committee Meeting\, Friday\, May 8\, 2026 at 9:30 am in the Norman L. Major Auditorium\, 94 North Road\, Brentwood\, NH 03833.
URL:https://rockinghamcountynh.org/event/board-of-commissioners-notice-of-a-quorum-9/
LOCATION:Norman L. Major Auditorium\, 94 North Road\, Brentwood\, 03833\, United States
CATEGORIES:BOC Event - Attendance
END:VEVENT
BEGIN:VEVENT
DTSTART;TZID=America/New_York:20260522T093000
DTEND;TZID=America/New_York:20260522T113000
DTSTAMP:20260420T012431
CREATED:20260407T173249Z
LAST-MODIFIED:20260407T173249Z
UID:32445-1779442200-1779449400@rockinghamcountynh.org
SUMMARY:Board of Commissioners Notice of a Quorum
DESCRIPTION:A quorum of the Board will attend the Rockingham County Executive Committee Meeting\, Friday\, May 22\, 2026 at 9:30 am in the Norman L. Major Auditorium\, 94 North Road\, Brentwood\, NH 03833.
URL:https://rockinghamcountynh.org/event/board-of-commissioners-notice-of-a-quorum-10/
LOCATION:Norman L. Major Auditorium\, 94 North Road\, Brentwood\, 03833\, United States
CATEGORIES:BOC Event - Attendance
END:VEVENT
BEGIN:VEVENT
DTSTART;TZID=America/New_York:20260602T160000
DTEND;TZID=America/New_York:20260604T140000
DTSTAMP:20260420T012431
CREATED:20260407T174443Z
LAST-MODIFIED:20260407T174443Z
UID:32447-1780416000-1780581600@rockinghamcountynh.org
SUMMARY:Board of Commissioners Notice of a Quorum
DESCRIPTION:A quorum of the Board will attend the Primex Risk Management Summit Annual Conference starting Tuesday\, June 2\, 2026 at 4:00 pm\, through Thursday\, June 4\, 2026\, 2:00 pm at the Omni Mount Washington Resort\, 310 Mount Washington Hotel Road\, Bretton Woods\, NH\, 03575.
URL:https://rockinghamcountynh.org/event/board-of-commissioners-notice-of-a-quorum-11/
LOCATION:Omni Mt. Washington Resort\, Omni Mt. Washington Resort\, Bretton Woods\, NH\, 03575
CATEGORIES:BOC Event - Attendance
END:VEVENT
BEGIN:VEVENT
DTSTART;TZID=America/New_York:20260617T173000
DTEND;TZID=America/New_York:20260617T193000
DTSTAMP:20260420T012431
CREATED:20260407T174802Z
LAST-MODIFIED:20260407T174802Z
UID:32449-1781717400-1781724600@rockinghamcountynh.org
SUMMARY:Board of Commissioners Notice of a Quorum
DESCRIPTION:A quorum of the Board will attend the Rockingham County Executive Committee Meeting\, Wednesday\, June 17\, 2026 at 5:30 pm\, and the County Convention Meeting at 6:00 pm\, in the Norman L. Major Auditorium\, 94 North Road\, Brentwood\, NH 03833.
URL:https://rockinghamcountynh.org/event/board-of-commissioners-notice-of-a-quorum-12/
LOCATION:Norman L. Major Auditorium\, 94 North Road\, Brentwood\, 03833\, United States
CATEGORIES:BOC Event - Attendance
END:VEVENT
END:VCALENDAR